BEGIN:VCALENDAR
VERSION:2.0
PRODID:-//Epworth United Methodist Church - ECPv6.15.20//NONSGML v1.0//EN
CALSCALE:GREGORIAN
METHOD:PUBLISH
X-WR-CALNAME:Epworth United Methodist Church
X-ORIGINAL-URL:https://www.epworth.com
X-WR-CALDESC:Events for Epworth United Methodist Church
REFRESH-INTERVAL;VALUE=DURATION:PT1H
X-Robots-Tag:noindex
X-PUBLISHED-TTL:PT1H
BEGIN:VTIMEZONE
TZID:America/New_York
BEGIN:DAYLIGHT
TZOFFSETFROM:-0500
TZOFFSETTO:-0400
TZNAME:EDT
DTSTART:20250309T070000
END:DAYLIGHT
BEGIN:STANDARD
TZOFFSETFROM:-0400
TZOFFSETTO:-0500
TZNAME:EST
DTSTART:20251102T060000
END:STANDARD
BEGIN:DAYLIGHT
TZOFFSETFROM:-0500
TZOFFSETTO:-0400
TZNAME:EDT
DTSTART:20260308T070000
END:DAYLIGHT
BEGIN:STANDARD
TZOFFSETFROM:-0400
TZOFFSETTO:-0500
TZNAME:EST
DTSTART:20261101T060000
END:STANDARD
BEGIN:DAYLIGHT
TZOFFSETFROM:-0500
TZOFFSETTO:-0400
TZNAME:EDT
DTSTART:20270314T070000
END:DAYLIGHT
BEGIN:STANDARD
TZOFFSETFROM:-0400
TZOFFSETTO:-0500
TZNAME:EST
DTSTART:20271107T060000
END:STANDARD
END:VTIMEZONE
BEGIN:VEVENT
DTSTART;TZID=America/New_York:20260425T110000
DTEND;TZID=America/New_York:20260425T140000
DTSTAMP:20260425T102720
CREATED:20260409T152640Z
LAST-MODIFIED:20260409T152830Z
UID:10002752-1777114800-1777125600@www.epworth.com
SUMMARY:DOT Playspace 1yr Celebration
DESCRIPTION:DOT Playspace’s  1 Year Celebration + Parking Lot Party \nJoin us on April 25th from 11am–2pm!\nWe’ve got an amazing lineup of local vendors who will be set up and ready to meet you\, shop with you\, and share what they do best. We are so grateful for this community and all the incredible businesses that are part of it\nCome hang\, explore\, support local\, and celebrate ONE YEAR of DOT with us!\nWe can’t wait to see you there
URL:https://www.epworth.com/event/dot-playspace-1yr-celebration
LOCATION:DOT Playspace\, 6544 Central Ave STE A\, Toledo\, OH\, 43617\, United States
CATEGORIES:Epworth Early Learning Center
END:VEVENT
BEGIN:VEVENT
DTSTART;TZID=America/New_York:20260425T170000
DTEND;TZID=America/New_York:20260425T180000
DTSTAMP:20260425T102720
CREATED:20260402T170133Z
LAST-MODIFIED:20260409T144536Z
UID:10000002-1777136400-1777140000@www.epworth.com
SUMMARY:Grace Before the Race
DESCRIPTION:Join us on Saturday at 5 pm for our traditional service before the Glass City Marathon
URL:https://www.epworth.com/event/grace-before-the-race
LOCATION:Epworth United Methodist Church\, 4855 W. Central Avenue\, Toledo\, Ohio\, 43615\, United States
CATEGORIES:Worship Special Events
END:VEVENT
END:VCALENDAR